BEGIN:VCALENDAR
VERSION:2.0
PRODID:-//eventon.com NONSGML v1.0//EN
BEGIN:VEVENT
UID:69ecb16616a51
DTSTAMP:20260425T141950
DTSTART:20241114T160000Z
DTEND:20241114T173000Z
LOCATION:
SUMMARY:SEDE ADICAE MADRID (GETAFE)\,  C/ TERRADAS 1 - GETAFE
DESCRIPTION: Ponente: Angel Pedro Diaz\,  abogado
END:VEVENT
END:VCALENDAR