BEGIN:VCALENDAR
VERSION:2.0
PRODID:-//eventon.com NONSGML v1.0//EN
BEGIN:VEVENT
UID:69ebab58c3f80
DTSTAMP:20260424T194144
DTSTART:20241128T160000Z
DTEND:20241128T173000Z
LOCATION:
SUMMARY:SEDE ADICAE MADRID (GETAFE)\,  C/ TERRADAS 1 - GETAFE
DESCRIPTION: Ponente: Angel Pedro Diaz\,  abogado
END:VEVENT
END:VCALENDAR