BEGIN:VCALENDAR
VERSION:2.0
PRODID:-//eventon.com NONSGML v1.0//EN
BEGIN:VEVENT
UID:69ed441fc72e3
DTSTAMP:20260426T004551
DTSTART:20241121T170000Z
DTEND:20241121T183000Z
LOCATION:
SUMMARY:EDIFICIO LA TERCIA\,  C/ LA TERCIA\,  12 - ALICANTE
DESCRIPTION: Ponente: Jose Antonio Madrid\,  auxiliar administrativo
END:VEVENT
END:VCALENDAR